BEGIN:VCALENDAR
VERSION:2.0
PRODID:Comemorações do 1º de Maio - FIRA - Abrunheira 
X-WR-CALNAME:Comemorações do 1º de Maio - FIRA - Abrunheira 
X-WR-TIMEZONE:Europe/Lisbon
X-PUBLISHED-TTL:P1W
BEGIN:VTIMEZONE
TZID:Europe/Lisbon
X-LIC-LOCATION:Europe/Lisbon
END:VTIMEZONE
BEGIN:VEVENT
UID:69e8d93b1aed3
DTSTART;VALUE=DATE:20260501
SEQUENCE:0
TRANSP:OPAQUE
DTEND;VALUE=DATE:20260502
SUMMARY:Comemorações do 1º de Maio - FIRA - Abrunheira 
CLASS:PUBLIC
DESCRIPTION:As comemorações do 145.º da FIRA está quase a iniciar-se.No
  Primeiro de Maio o Rancho das Cantarinhas comemorará a efeméride da man
 eira tradicional: tomar  \"bucha\" na Fonte da Preguiça\, arruada por Ser
 roventoso\, Souselas\, Belide\, abrunheira e Vale\; terminando com a exibi
 ção no Parque Dr. António J. Simões.
X-MICROSOFT-CDO-ALLDAYEVENT:TRUE
DTSTAMP:20260422T142043Z
END:VEVENT
END:VCALENDAR