BEGIN:VCALENDAR
VERSION:2.0
PRODID:Apresentação da banda Juvenil da FIRA - Abrunheira 
X-WR-CALNAME:Apresentação da banda Juvenil da FIRA - Abrunheira 
X-WR-TIMEZONE:Europe/Lisbon
X-PUBLISHED-TTL:P1W
BEGIN:VTIMEZONE
TZID:Europe/Lisbon
X-LIC-LOCATION:Europe/Lisbon
END:VTIMEZONE
BEGIN:VEVENT
UID:69e8da32b239e
DTSTART;VALUE=DATE:20260502
SEQUENCE:0
TRANSP:OPAQUE
DTEND;VALUE=DATE:20260503
SUMMARY:Apresentação da banda Juvenil da FIRA - Abrunheira 
CLASS:PUBLIC
DESCRIPTION:Dia 2 de Maio\, pelas 21H30 teremos o concerto de apresentaçã
 o da Banda Juvenil de Abrunheira\, no auditório-sede da FIRA.
X-MICROSOFT-CDO-ALLDAYEVENT:TRUE
DTSTAMP:20260422T142450Z
END:VEVENT
END:VCALENDAR