BEGIN:VCALENDAR
VERSION:2.0
PRODID:Concerto Solidário - Associação Filarmónica União Verridense 
X-WR-CALNAME:Concerto Solidário - Associação Filarmónica União Verride
 nse 
X-WR-TIMEZONE:Europe/Lisbon
X-PUBLISHED-TTL:P1W
BEGIN:VTIMEZONE
TZID:Europe/Lisbon
X-LIC-LOCATION:Europe/Lisbon
END:VTIMEZONE
BEGIN:VEVENT
UID:69e61a7801e06
DTSTART;VALUE=DATE:20260426
SEQUENCE:0
TRANSP:OPAQUE
DTEND;VALUE=DATE:20260427
SUMMARY:Concerto Solidário - Associação Filarmónica União Verridense 
CLASS:PUBLIC
DESCRIPTION:No próximo dia 26 de abril\, pelas 16:30h\, terá lugar no Fó
 rum Cultural de Montemor-o-Velho um ???????????????????????????????? ?????
 ???????????????????́????????????\, pelas vitimas da tempestade Kristin.Es
 ta iniciativa da Filarmónica da AFUV contará com a participação de alg
 uns elementos da Filarmónica de Monte Redondo - Leiria\, que teve a sua s
 ede bastante danificada pelas intempéries que\, no passado mês de janeir
 o\, assolaram o nosso país\; em favor desta instituição reverterá uma 
 angariação de fundos.E como pode ajudar? - Encontram-se disponíveis par
 a aquisição p͟u͟l͟s͟e͟i͟r͟a͟s͟ s͟o͟l͟i͟d͟á͟r͟i͟a͟s na
  Academia Saúde e Bem-Estar\, Café Garrett\, Miniver e Salão Dehu.Conta
 mos com a presença de todos\, neste momento significativo\, de cooperaç
 ão e entreajuda\, para o associativismo musical.
X-MICROSOFT-CDO-ALLDAYEVENT:TRUE
DTSTAMP:20260420T122216Z
END:VEVENT
END:VCALENDAR